{"text_format":"3","workbook":"xlsx","n_sheets":4,"sheets":["1","2","3","4"],"not_rendered":{"external_links":2,"defined_names":50},"read":"whole","date_system":"1900"}

{"sheet":"1","index":0,"n_rows":26,"n_cols":7,"rows_kept":26,"merged":[[0,4,0,6],[1,0,1,6]]}
[{"$nulls":4},"Приложение 1 \nк Постановлению  № 18/1   от 15.07. 2022  г                                              « Об исполнении  бюджета \nсельской администрации МО Малочергинское сельское поселение за 2 квартал 2022 года.\""]
["Объем поступлений доходов в бюджет муниципального образования Малочергинское сельское поселение  за 2 квартал  2022 году"]
["Код главы администратора*","Код бюджетной классификации Российской Федерации","Наименование доходов","Изменения (+;-)","Утверждено, сумма (тыс.рублей)","Исполнено, сумма (тыс.рублей)","Неисполненные назначение  сумма (тыс.рублей)"]
[1,2,3,4,5]
[182,"1 00 00000 00 0000 000","НАЛОГОВЫЕ И НЕНАЛОГОВЫЕ ДОХОДЫ",{"$f":"D6+D15","v":{"$error":"#REF!"}},{"$f":"E6+E15","v":{"v":347,"d":"347.00"}},{"$f":"F6+F15","v":{"v":127.458,"d":"127.46"}},{"$f":"E5-F5","v":{"v":219.542,"d":"220"}}]
[null,null,"НАЛОГОВЫЕ ДОХОДЫ",{"$f":"D7+D8+D10","v":42.1},{"$f":"E7+E8+E10","v":{"v":335,"d":"335.00"}},{"$f":"F7+F8+F10","v":{"v":121.458,"d":"121.46"}},{"$f":"E6-F6","v":{"v":213.542,"d":"214"}}]
[182,"1 01 02000 01 0000 110","Налог на доходы физических лиц",{"v":12,"d":"12.0"},{"v":20,"d":"20.00"},{"v":11.922,"d":"11.92"},{"v":8.078,"d":"8"}]
[182,"1 05 00000 00 0000 000","Налоги на совокупный доход",{"$f":"D9","v":-1.2},{"$f":"E9","v":{"v":20,"d":"20.00"}},{"$f":"F9","v":{"v":28.506,"d":"28.51"}},{"v":-8.506,"d":"-9"}]
[182,"1 05 03000 01 0000 110","Единый сельскохозяйственный налог",-1.2,{"v":20,"d":"20.00"},{"v":28.506,"d":"28.51"},{"v":-8.506,"d":"-9"}]
[182,"1 06 00000 00 0000 000","Налоги на имущество",{"$f":"D11+D14","v":31.3},{"$f":"E11+E12","v":{"v":295,"d":"295.00"}},{"$f":"F11+F12","v":81.03},{"v":213.97,"d":"214"}]
[182,"1 06 01000 00 0000 110","Налог на имущество физических лиц  ",-8.7,{"v":35,"d":"35.00"},{"v":0.739,"d":"0.74"},{"v":34.261,"d":"34"}]
[182,"1 06 06000 00 0000 110","Земельный налог  ",{"v":40,"d":"40.0"},{"$f":"E13+E14","v":{"v":260,"d":"260.00"}},{"$f":"F13+F14","v":{"v":80.291,"d":"80.29"}},{"v":179.709,"d":"180"}]
[182,"1 06 06033 10 1000 110"," Земельный налог с организаций",null,{"v":60,"d":"60.00"},{"v":57.231,"d":"57.23"},{"v":2.7689999999999984,"d":"3"}]
[182,"1 06 06043 10 1000 110"," Земельный налог с физических лиц",{"v":40,"d":"40.0"},{"v":200,"d":"200.00"},23.06,{"v":176.94,"d":"177"}]
[null,null,"НЕНАЛОГОВЫЕ ДОХОДЫ",{"$f":"#REF!","v":{"$error":"#REF!"}},{"$f":"E16","v":{"v":12,"d":"12.00"}},{"$f":"F16","v":{"v":6,"d":"6.00"}},6]
[801," 1 11 05035 10 0000 120","Доходы от сдачи в аренду имущества, находящегося в оперативном управлении органов управления сельских поселений и созданных ими учреждений (за исключением имущества муниципальных бюджетных и автономных учреждений)",null,{"v":12,"d":"12.00"},{"v":6,"d":"6.00"},6]
[801,"2 00 00000 00 0000 000","Безвозмездные поступления",{"$f":"D18","v":{"v":0,"d":"0.0"}},{"$f":"E18+E25","v":{"v":2677.9,"d":"2677.90"}},{"$f":"F18+F25","v":{"v":1610.754,"d":"1610.75"}},{"v":1067.1460000000002,"d":"1067"}]
[801," 2 02 00000 00 0000 000","Безвозмездные поступления от других бюджетов бюджетной системы Российской Федерации",{"v":0,"d":"0.0"},{"$f":"E19","v":{"v":2682.9,"d":"2682.90"}},{"$f":"F19","v":{"v":1615.754,"d":"1615.75"}},{"v":1067.1460000000002,"d":"1067"}]
[801," 2 02 00000 00 0000 000","Безвозмездные поступления от других бюджетов бюджетной системы Российской Федерации",null,{"$f":"SUM(E20:E24)","v":{"v":2682.9,"d":"2682.90"}},{"$f":"SUM(F20:F24)","v":{"v":1615.754,"d":"1615.75"}},{"v":1067.1460000000002,"d":"1067"}]
[801," 2 02 15001 10 0000 150","Дотации бюджетам субъектов Российской Федерации и муниципальных образований",null,{"v":1817,"d":"1817.00"},{"v":1008.496,"d":"1008.50"},{"v":808.504,"d":"809"}]
[801,"2 02 35118 10 0000 150","Субвенции бюджетам сельских поселений на выполнение передаваемых полномочий субъектов Российской Федерации",null,{"v":7,"d":"7.00"},{"v":7,"d":"7.00"},0]
[801,"2 02 03000 00 0000 151","Субвенции бюджетам субъектов Российской Федерации и муниципальных образований",2.3,{"v":104.3,"d":"104.30"},{"v":53.4,"d":"53.40"},{"v":50.9,"d":"51"}]
[801,"2 02 04014 10 0000 151","Межбюджетные трансферты, передаваемые бюджетам муниципальных образований на осуществление части полномочий по решению вопросов местного значения ",-45.8,{"v":246.8,"d":"246.80"},{"v":148.258,"d":"148.26"},{"v":98.542,"d":"99"}]
[801,"2 02 04999 10 0000 151 ","Прочие межбюджетные трансферты, передаваемые бюджетам сельских поселений",45.8,{"v":507.8,"d":"507.80"},{"v":398.6,"d":"398.60"},{"v":109.19999999999999,"d":"109"}]
[801,"2 19 60010 10 0000 150","  Возврат прочих остатков субсидий, субвенций и иных межбюджетных трансфертов, имеющих целевое назначение, прошлых лет из бюджетов сельских поселений",null,{"v":-5,"d":"-5.00"},{"v":-5,"d":"-5.00"},0]
[null,null,"Всего доходов",{"$f":"D5+D17","v":{"$error":"#REF!"}},{"$f":"E5+E17","v":{"v":3024.9,"d":"3024.90"}},{"$f":"F5+F17","v":{"v":1738.212,"d":"1738.21"}},{"v":1286.688,"d":"1287"}]

{"sheet":"2","index":1,"n_rows":21,"n_cols":6,"rows_kept":21,"merged":[[0,1,0,5],[2,0,3,5]]}
[null,"Приложение 2 \nк Постановлению  № 18/1        от  15.07.2022  г                                              « Об исполнении  бюджета \nсельской администрации МО Малочергинское сельское поселение за 2 квартал 2022 года.\""]
[]
["Распределение\nбюджетных ассигнований по разделам, подразделам классификации расходов бюджета муниципального образования  Малочергинское сельское поселение    за 2 квартал 2022 год"]
[]
["Наименование показателя","Раздел, подраздел","Изменения (+;-)","Утверждено,     (тыс.руб.)","Исполнено,    (тыс.руб.)","Неисполненные назначение  сумма (тыс.руб.)"]
["ОБЩЕГОСУДАРСТВЕННЫЕ ВОПРОСЫ","0100",{"$f":"SUM(C7:C8)","v":130.8},{"$f":"SUM(D7:D10)","v":{"v":1725.065,"d":"1725.07"}},{"$f":"SUM(E7:E10)","v":{"v":893.6729999999999,"d":"893.67"}},{"$f":"D6-E6","v":{"v":831.3920000000002,"d":"831.4"}}]
["Функционирование высшего должностного лица субъекта Российской Федерации и муниципального образования","0102",{"v":-38,"d":"-38.0"},{"v":400,"d":"400.00"},{"$f":"'3'!H7","v":{"v":169.084,"d":"169.08"}},{"$f":"D7-E7","v":{"v":230.916,"d":"230.9"}}]
["Функционирование Правительства Российской Федерации, высших исполнительных органов государственной власти субъектов Российской Федерации, местных администраций","0104",168.8,{"$f":"'3'!G11","v":{"v":1084.3880000000001,"d":"1084.39"}},{"$f":"'3'!H11","v":{"v":583.362,"d":"583.36"}},{"v":501.0260000000002,"d":"501.0"}]
["Резервные фонды","0111",null,{"v":15,"d":"15.00"},null,{"v":15,"d":"15.0"}]
["ДРУГИЕ ОБЩЕГОСУДАРСТВЕННЫЕ РАСХОДЫ","0113",null,{"$f":"'3'!G32","v":{"v":225.67700000000002,"d":"225.68"}},{"$f":"'3'!H32","v":{"v":141.227,"d":"141.23"}},{"v":84.45000000000002,"d":"84.5"}]
["НАЦИОНАЛЬНАЯ ОБОРОНА","0200",{"$f":"C12","v":50.5},{"$f":"D12","v":{"v":104.3,"d":"104.30"}},{"$f":"E12","v":{"v":53.4,"d":"53.40"}},50.9]
["Мобилизационная и вневойсковая подготовка","0203",50.5,{"v":104.3,"d":"104.30"},{"$f":"'3'!H49","v":{"v":53.4,"d":"53.40"}},50.9]
["НАЦИОНАЛЬНАЯ ЭКОНОМИКА","0400",null,{"$f":"D14+D15","v":{"v":150.3,"d":"150.30"}},{"$f":"E14","v":{"v":42.836,"d":"42.84"}},{"v":107.46400000000001,"d":"107.5"}]
["Дорожное хозяйство (дорожные фонды)","0409",null,{"$f":"'3'!G54","v":{"v":150.3,"d":"150.30"}},{"$f":"'3'!H54","v":{"v":42.836,"d":"42.84"}},{"v":107.46400000000001,"d":"107.5"}]
["Другие вопросы в области национальной экономики","0412",{"$nulls":3},{"v":0,"d":"0.0"}]
["ЖИЛИЩНО-КОММУНАЛЬНОЕ ХОЗЯЙСТВО","0500",null,{"$f":"D18+D17","v":435.64},{"$f":"E17+E18","v":33.26},{"v":402.38,"d":"402.4"}]
["Коммунальное хозяйство","0502",null,{"v":96.5,"d":"96.50"},{"$f":"'3'!H59","v":{"v":24.012,"d":"24.01"}},{"v":72.488,"d":"72.5"}]
["БЛАГОУСТРОЙСТВО","0503",null,{"$f":"'3'!G63","v":339.14},{"$f":"'3'!H63","v":{"v":9.248,"d":"9.25"}},{"v":329.892,"d":"329.9"}]
["ФИЗИЧЕСКАЯ КУЛЬТУРА И СПОРТ","1100","11",{"$f":"D20","v":{"v":624.772,"d":"624.77"}},{"$f":"E20","v":{"v":307.829,"d":"307.83"}},{"v":316.94300000000004,"d":"316.9"}]
["Другие вопросы в области физической культуры и спорта","1105",null,{"$f":"'3'!G68","v":{"v":624.772,"d":"624.77"}},{"$f":"'3'!H68","v":{"v":307.829,"d":"307.83"}},{"v":316.94300000000004,"d":"316.9"}]
["ВСЕГО РАСХОДОВ",null,{"$f":"C6+#REF!+#REF!+C11+C13","v":{"$error":"#REF!"}},{"$f":"D6+D11+D13+D16+D19","v":{"v":3040.0769999999998,"d":"3040.08"}},{"$f":"E6+E11+E13+E16+E19","v":{"v":1330.9979999999998,"d":"1331.00"}},{"v":1709.079,"d":"1709.1"}]

{"sheet":"3","index":2,"n_rows":73,"n_cols":9,"rows_kept":73,"merged":[[0,2,0,7],[1,0,1,7],[2,1,2,5]]}
[null,null,"Приложение 3 \nк Постановлению  № 18/1        от  15.07.2022  г                                              « Об исполнении  бюджета \nсельской администрации МО Малочергинское сельское поселение за 2 квартал 2022 года.\""]
["Ведомственная структура расходов бюджета  муниципального образования Малочергинское сельское поселение на 2022 год"]
[{"$nulls":7},"(тыс. рублей)"]
["Наименование главного распорядителя ","Гл","Рз","ПР","ЦСР","ВР","Утверждено, (тыс.руб.)","Исполнено, (тыс.руб.)","Неисполненные назначение  сумма (тыс.руб.)"]
[1,2,3,4,5,6,7,8,9]
["ОБЩЕГОСУДАРСТВЕННЫЕ ВОПРОСЫ","801","01","00",null,null,{"$f":"G7+G11+G21+G32","v":{"v":1725.065,"d":"1725.07"}},{"$f":"H7+H11+H21+H32","v":{"v":893.6729999999999,"d":"893.67"}},{"$f":"G6-H6","v":{"v":831.3920000000002,"d":"831.4"}}]
["Функционирование высшего должностного лица субьекта Российской Федерации и муниципального образования ","801","01","02",null,null,{"$f":"G8","v":{"v":400,"d":"400.00"}},{"v":169.084,"d":"169.08"},{"$f":"G7-H7","v":{"v":230.916,"d":"230.9"}}]
["Непрограммные направления деятельности  сельской администрации ","801","01","02",null,null,{"v":400,"d":"400.00"},{"v":169.084,"d":"169.08"},{"v":230.916,"d":"230.9"}]
["Обеспечение деятельности высшего должностного лица","801","01","02","99 0 Л0 10100",null,{"v":400,"d":"400.00"},{"v":169.084,"d":"169.08"},{"v":230.916,"d":"230.9"}]
["Расходы на выплаты персоналу в целях обеспечения выполнения функций государственными (муниципальными) органами, казенными учреждениями, органами управления государственными внебюджетными фондами","801","01","02","99 0 Л0 10100","100",{"v":400,"d":"400.00"},{"v":169.084,"d":"169.08"},{"v":230.916,"d":"230.9"}]
["Функционирование Правительства Российской Федерации, высших исполнительных органов государственной власти субъектов Российской Федерации, местных администрации","801","01","04",null,null,{"$f":"G12+G17","v":{"v":1084.3880000000001,"d":"1084.39"}},{"$f":"H12+H17","v":{"v":583.362,"d":"583.36"}},{"v":501.0260000000002,"d":"501.0"}]
["Подпрограмма \"Развитие экономического и налогового потенциал\" ","801","01","04","01 2 00 00000",null,{"$f":"G13+G15","v":{"v":51.718,"d":"51.72"}},{"$f":"H13+H15","v":{"v":6.672,"d":"6.67"}},{"v":45.04600000000001,"d":"45.0"}]
["Основное мероприятие \"Формирование эффективной системы управления и распоряжения муниципальными финансами\"","801","01","04","01 2 01 00000",null,{"$f":"G14","v":{"v":10,"d":"10.00"}},{"$f":"H14","v":{"v":6.672,"d":"6.67"}},{"v":3.3280000000000003,"d":"3.3"}]
["Уплата налогов, сборов и иных платежей","801","01","04","01 2 01 01000","800",{"v":10,"d":"10.00"},{"v":6.672,"d":"6.67"},{"v":3.3280000000000003,"d":"3.3"}]
["Основное мероприятие  \"Повышение эффективности управления муниципальной собственностью\"","801","01","04","01 2 02 10000",null,{"$f":"G16","v":{"v":41.718,"d":"41.72"}},{"$f":"H16","v":{"v":0,"d":"0.00"}},{"v":41.718,"d":"41.7"}]
["Иные межбюджетные трансферты","801","01","04","01 2 02 01100","500",{"v":41.718,"d":"41.72"},{"v":0,"d":"0.00"},{"v":41.718,"d":"41.7"}]
["Подпрограмма \"Создание условий реализаций муниципальной программы\"","801","01","04","01 3 00 00000",null,{"$f":"G18","v":1032.67},{"$f":"H18","v":{"v":576.6899999999999,"d":"576.69"}},{"v":455.98000000000013,"d":"456.0"}]
["Основное мероприятие \"Повышение эффективности муниципального управления\"","801","01","04","01 3 01 00000",null,{"$f":"G19+G20","v":1032.67},{"$f":"H19+H20","v":{"v":576.6899999999999,"d":"576.69"}},{"v":455.98000000000013,"d":"456.0"}]
["Расходы на выплаты персоналу в целях обеспечения выполнения функций государственными (муниципальными) органами, казенными учреждениями, органами управления государственными внебюджетными фондами","801","01","04","01 3 У1 80110","100",892.67,525.39,{"v":367.28,"d":"367.3"}]
["Расходы на выплаты персоналу в целях обеспечения выполнения функций государственными (муниципальными) органами, казенными учреждениями, органами управления государственными внебюджетными фондами","801","01","04","01 3 У1 S8500","100",{"v":140,"d":"140.00"},{"v":51.3,"d":"51.30"},88.7]
["РЕЗЕРВНЫЕ ФОНДЫ","801","01","11",null,null,{"$f":"G22","v":{"v":15,"d":"15.00"}},null,{"v":15,"d":"15.0"}]
["Подпрограмма «Обеспечение безопасности населения и профилактика терроризма и экстремизма»","801","01","11","02 2 00 00000",null,{"$f":"G23+G26+G29","v":{"v":15,"d":"15.00"}},null,{"v":15,"d":"15.0"}]
["Основное мероприятие \"Обеспечение первичных мер пожарной безопасности в границах поселений\"","801","01","11","02 2 01 Ш1000",null,{"$f":"G24","v":{"v":5,"d":"5.00"}},null,{"v":5,"d":"5.0"}]
["Обеспечение первичных мер пожарной безопасности","801","01","11","02 2 01 Ш1000",null,{"$f":"G25","v":{"v":5,"d":"5.00"}},null,{"v":5,"d":"5.0"}]
["Иные бюджетные ассигнования","801","01","11","02 2 01 Ш1000","800",{"v":5,"d":"5.00"},null,{"v":5,"d":"5.0"}]
["Основное мероприятие \"Профилактика терроризма и экстремизма в границах поселения\"","801","01","11","02 2 02 Ш2000",null,{"$f":"G27","v":{"v":5,"d":"5.00"}},null,{"v":5,"d":"5.0"}]
["Совершенствование системы информационно-пропагандистского противодействия терроризму и экстремизму","801","01","11","02 2 02 Ш2000",null,{"$f":"G28","v":{"v":5,"d":"5.00"}},null,{"v":5,"d":"5.0"}]
["Иные бюджетные ассигнования","801","01","11","02 2 02 Ш2000","800",{"v":5,"d":"5.00"},null,{"v":5,"d":"5.0"}]
["Основное мероприятие \"Предупреждение и ликвидация последствий чрезвычайных ситуаций в границах поселения\"","801","01","11","02 2 03 Ш3000",null,{"$f":"G30","v":{"v":5,"d":"5.00"}},null,{"v":5,"d":"5.0"}]
["Обеспечение наличия запасов резервов финансовых и материальных ресурсов для ликвидации ЧС","801","01","11","02 2 03 Ш3000",null,{"$f":"G31","v":{"v":5,"d":"5.00"}},null,{"v":5,"d":"5.0"}]
["Иные бюджетные ассигнования","801","01","11","02 2 03 Ш3000","800",{"v":5,"d":"5.00"},null,{"v":5,"d":"5.0"}]
["ДРУГИЕ ОБЩЕГОСУДАРСТВЕННЫЕ ВОПРОСЫ","801","01","13",null,null,{"$f":"G33+G36+G43+G46","v":{"v":225.67700000000002,"d":"225.68"}},{"$f":"H33+H36+H43+H46","v":{"v":141.227,"d":"141.23"}},{"v":84.45000000000002,"d":"84.5"}]
["Подпрограмма \"Развитие  социально-культурной сферы\"","801","01","13","01 1 01 00000",null,{"$f":"G34","v":{"v":5,"d":"5.00"}},null,{"v":5,"d":"5.0"}]
["Основное мероприятие \"Развитие культурно-досуговой деятельности\"","801","01","13","01 1 01 00000",null,{"$f":"G35","v":{"v":5,"d":"5.00"}},null,{"v":5,"d":"5.0"}]
["Закупка товаров, работ и услуг для обеспечения государственных (муниципальных) нужд","801","01","13","01 1 01 01200","200",{"v":5,"d":"5.00"},{"v":0,"d":"0.00"},{"v":5,"d":"5.0"}]
["Подпрограмма \"Развитие экономического и налогового потенциал\" ","801","01","13","01 2 00 00000",null,{"$f":"G37+G40","v":{"v":128.67700000000002,"d":"128.68"}},{"$f":"H37+H40","v":{"v":85.539,"d":"85.54"}},{"v":43.13800000000002,"d":"43.1"}]
["Основное мероприятие \"Формирование эффективной системы управления и распоряжения муниципальными финансами\"","801","01","13","01 2 01 00000",null,{"$f":"G38","v":{"v":34.5,"d":"34.50"}},null,34.5]
["Обеспечение мероприятий  по обеспечению доступа к внешним информационным ресурсам ","801","01","13","01 2 01 S9600",null,{"$f":"G39","v":{"v":34.5,"d":"34.50"}},null,34.5]
["Закупка товаров, работ и услуг для обеспечения государственных (муниципальных) нужд","801","01","13","01 2 01 S9600","200",{"v":34.5,"d":"34.50"},null,34.5]
["Основное мероприятие \"Повышение эффективности управления  муниципальной собственностью\"","801","01","13","01 2 02 00000",null,{"$f":"G41","v":{"v":94.177,"d":"94.18"}},{"$f":"H42","v":{"v":85.539,"d":"85.54"}},{"v":8.638000000000005,"d":"8.6"}]
["Организация мероприятия по содержанию муниципального имущества","801","01","13","01 2 02 01300",null,{"$f":"G42","v":{"v":94.177,"d":"94.18"}},null,{"v":94.177,"d":"94.2"}]
["Закупка товаров, работ и услуг для обеспечения государственных (муниципальных) нужд","801","01","13","01 2 02 01300","200",{"v":94.177,"d":"94.18"},{"v":85.539,"d":"85.54"},{"v":8.638000000000005,"d":"8.6"}]
["Подпрограмма \"Создание условий реализаций муниципальной программы\"","801","01","13","01 3 01 00000",null,{"$f":"G44","v":{"v":85,"d":"85.00"}},{"$f":"H44","v":{"v":55.688,"d":"55.69"}},{"v":29.311999999999998,"d":"29.3"}]
["Организация мероприятий по оплате договоров гражданско-правового характера","801","01","13","01 3 01 01200",null,{"$f":"G45","v":{"v":85,"d":"85.00"}},{"$f":"H45","v":{"v":55.688,"d":"55.69"}},{"v":29.311999999999998,"d":"29.3"}]
["Закупка товаров, работ и услуг для обеспечения государственных (муниципальных) нужд","801","01","13","01 3 01 01200","200",{"v":85,"d":"85.00"},{"v":55.688,"d":"55.69"},{"v":29.311999999999998,"d":"29.3"}]
["Непрограммные направления деятельности  сельской администрации ","801","01","13","99 0 У0 45300",null,{"v":7,"d":"7.00"},null,{"v":7,"d":"7.0"}]
["Обеспечение мероприятий пв области законодательства об административных правонарушениях","801","01","13","99 0 У0 45300",null,{"$f":"G48","v":{"v":7,"d":"7.00"}},null,{"v":7,"d":"7.0"}]
["Закупка товаров, работ и услуг для обеспечения государственных (муниципальных) нужд","801","01","13","99 0 У0 45300","200",{"v":7,"d":"7.00"},null,{"v":7,"d":"7.0"}]
["НАЦИОНАЛЬНАЯ ОБОРОНА","801","02","00",null,null,{"$f":"G50","v":{"v":104.3,"d":"104.30"}},{"v":53.4,"d":"53.40"},50.9]
["Мобилизационная и вневойсковая подготовка","801","02","03","99 0 00 00000",null,{"v":104.3,"d":"104.30"},{"v":53.4,"d":"53.40"},50.9]
["Осуществление первичного воинского учета на территориях, где отсутствуют военные комиссариаты","801","02","03","99 0 Л1 51180",null,{"v":104.3,"d":"104.30"},{"v":53.4,"d":"53.40"},50.9]
["Расходы на выплаты персоналу в целях обеспечения выполнения функций государственными (муниципальными) органами, казенными учреждениями, органами управления государственными внебюджетными фондами","801","02","03","99 0 Л1 51180","100",{"v":104.3,"d":"104.30"},{"v":53.4,"d":"53.40"},50.9]
["НАЦИОНАЛЬНАЯ ЭКОНОМИКА","801","04","00",null,null,{"$f":"G54","v":{"v":150.3,"d":"150.30"}},{"$f":"H54","v":{"v":42.836,"d":"42.84"}},{"v":107.46400000000001,"d":"107.5"}]
["Дорожное хозяйство","801","04","09",null,null,{"$f":"G55","v":{"v":150.3,"d":"150.30"}},{"$f":"H55","v":{"v":42.836,"d":"42.84"}},{"v":107.46400000000001,"d":"107.5"}]
["Подпрограмма \"Развитие инженерно-коммунального и дорожно транспортного комплекса\"","801","04","09","02 1 01 0Д000",null,{"v":150.3,"d":"150.30"},{"$f":"H56","v":{"v":42.836,"d":"42.84"}},{"v":107.46400000000001,"d":"107.5"}]
["Основное мероприятие \"Содержание и развитие дорожно-транспортного комплекса\"","801","04","09","02 1 01 0Д000",null,{"v":150.3,"d":"150.30"},{"$f":"H57","v":{"v":42.836,"d":"42.84"}},{"v":107.46400000000001,"d":"107.5"}]
["Закупка товаров, работ и услуг для обеспечения государственных (муниципальных) нужд","801","04","09","02 1 01 0Д000","200",{"v":150.3,"d":"150.30"},{"v":42.836,"d":"42.84"},{"v":107.46400000000001,"d":"107.5"}]
["ЖИЛИЩНО-КОММУНАЛЬНОЕ ХОЗЯЙСТВО","801","05","00",null,null,{"$f":"G59+G63","v":435.64},{"$f":"H59+H63","v":33.26},{"v":402.38,"d":"402.4"}]
["Коммунальное хозяйство","801","05","02",null,null,{"$f":"G60","v":{"v":96.5,"d":"96.50"}},{"v":24.012,"d":"24.01"},{"v":72.488,"d":"72.5"}]
["Подпрограмма \"Развитие инженерно- коммунального и дорожно-транспортного комплекса\" ","801","05","02","02 1 02 00000",null,{"v":96.5,"d":"96.50"},{"v":24.012,"d":"24.01"},{"v":72.488,"d":"72.5"}]
["Основное мероприятие \"Содержание инженерно -коммунальной инфраструктуры","801","05","02","02 1 02 00000",null,{"v":96.5,"d":"96.50"},{"v":24.012,"d":"24.01"},{"v":72.488,"d":"72.5"}]
["Закупка товаров, работ и услуг для обеспечения государственных (муниципальных) нужд","801","05","02","02 1 02 01400","200",{"v":96.5,"d":"96.50"},{"v":24.012,"d":"24.01"},{"v":72.488,"d":"72.5"}]
["Благоустройство","801","05","03",null,null,{"$f":"G64","v":339.14},{"v":9.248,"d":"9.25"},{"v":329.892,"d":"329.9"}]
["Подпрограмма \"Повышение уровня благоустройство территории\"","801","05","03","02 3 00 00000",null,339.14,{"v":9.248,"d":"9.25"},{"v":329.892,"d":"329.9"}]
["Основное мероприятие \"Подержание и улучшение санитрарного и эстетического состояния территории\"","801","05","03","02 3 01 01200",null,339.14,{"v":9.248,"d":"9.25"},{"v":329.892,"d":"329.9"}]
["Закупка товаров, работ и услуг для обеспечения государственных (муниципальных) нужд","801","05","03","02 3 01 01200","200",339.14,{"v":9.248,"d":"9.25"},{"v":329.892,"d":"329.9"}]
["ФИЗИЧЕСКАЯ КУЛЬТУРА И СПОРТ","801","11","00",null,null,{"$f":"G68","v":{"v":624.772,"d":"624.77"}},{"v":307.829,"d":"307.83"},{"v":316.94300000000004,"d":"316.9"}]
["Другие вопросы в области физической культуры и спорта","801","11","05",null,null,{"v":624.772,"d":"624.77"},{"v":307.829,"d":"307.83"},{"v":316.94300000000004,"d":"316.9"}]
["Подпрограмма \"Создание условий реализаций муниципальной программы\"","801","11","05","01 3 01 00000",null,{"v":624.772,"d":"624.77"},{"v":307.829,"d":"307.83"},{"v":316.94300000000004,"d":"316.9"}]
["Основное мероприятие \"Повышение эффективности муниципального управления\"","801","11","05","01 3 01 01100",null,{"v":624.772,"d":"624.77"},{"v":307.829,"d":"307.83"},{"v":316.94300000000004,"d":"316.9"}]
["Расходы на выплаты персоналу в целях обеспечения выполнения функций государственными (муниципальными) органами, казенными учреждениями, органами управления государственными внебюджетными фондами","801","11","05","01 3 01 01100","100",{"v":624.772,"d":"624.77"},{"v":307.829,"d":"307.83"},{"$f":"G71-H71","v":{"v":316.94300000000004,"d":"316.9"}}]
["Условно утверждаемые расходы","999","99","99","99 9 99 99999",{"$nulls":3},{"v":0,"d":"0.0"}]
["ВСЕГО РАСХОДОВ",{"$nulls":5},{"$f":"G6+G49+G53+G58+G67","v":{"v":3040.0769999999998,"d":"3040.08"}},{"$f":"H6+H49+H53+H58+H67","v":{"v":1330.9979999999998,"d":"1331.00"}},{"v":1709.079,"d":"1709.1"}]

{"sheet":"4","index":3,"n_rows":8,"n_cols":5,"rows_kept":8,"merged":[[0,2,0,4],[1,0,1,4]]}
[null,null,"Приложение 4 \nк Постановлению  № 18/1        от  15.07.2022  г                                              « Об исполнении  бюджета \nсельской администрации МО Малочергинское сельское поселение за 2 квартал 2022 года.\""]
["Источники финансирования   бюджета муниципального образования Малочергинское сельское поселение  за 2 квартал  2022 год"]
[]
[null,"Код бюджетной классификации","Утвержденные  плановые назначения на 2022 год, сумма (тыс. рублей)","Кассовое исполнение за 2 квартал  2022 год, сумма (тыс. рублей)","Неисполненные назначение  сумма (тыс.руб.)"]
["Дефицит бюджета",null,{"$f":"C6","v":{"v":15.177,"d":"15.18"}},{"$f":"D6","v":{"v":-407.216,"d":"-407.22"}},{"$f":"C5-D5","v":{"v":422.39300000000003,"d":"422.39"}}]
["Источники внутреннего финансирования  дефицита бюджета:","000 01 00 00 00 00 0000 000",{"$f":"C8","v":{"v":15.177,"d":"15.18"}},{"$f":"D8","v":{"v":-407.216,"d":"-407.22"}},{"$f":"C6-D6","v":{"v":422.39300000000003,"d":"422.39"}}]
["в том числе:",{"$nulls":3},0]
["Изменение остатков средств на счетах по учету средств бюджета","000 01 05 00 00 00 0000 000",{"v":15.177,"d":"15.18"},{"v":-407.216,"d":"-407.22"},{"v":422.39300000000003,"d":"422.39"}]